BEGIN:VCALENDAR
VERSION:2.0
PRODID:-//Soka Law - ECPv6.15.20//NONSGML v1.0//EN
CALSCALE:GREGORIAN
METHOD:PUBLISH
X-WR-CALNAME:Soka Law
X-ORIGINAL-URL:https://sokalawgroup.com
X-WR-CALDESC:Events for Soka Law
REFRESH-INTERVAL;VALUE=DURATION:PT1H
X-Robots-Tag:noindex
X-PUBLISHED-TTL:PT1H
BEGIN:VTIMEZONE
TZID:America/Chicago
BEGIN:DAYLIGHT
TZOFFSETFROM:-0600
TZOFFSETTO:-0500
TZNAME:CDT
DTSTART:20250309T080000
END:DAYLIGHT
BEGIN:STANDARD
TZOFFSETFROM:-0500
TZOFFSETTO:-0600
TZNAME:CST
DTSTART:20251102T070000
END:STANDARD
BEGIN:DAYLIGHT
TZOFFSETFROM:-0600
TZOFFSETTO:-0500
TZNAME:CDT
DTSTART:20260308T080000
END:DAYLIGHT
BEGIN:STANDARD
TZOFFSETFROM:-0500
TZOFFSETTO:-0600
TZNAME:CST
DTSTART:20261101T070000
END:STANDARD
BEGIN:DAYLIGHT
TZOFFSETFROM:-0600
TZOFFSETTO:-0500
TZNAME:CDT
DTSTART:20270314T080000
END:DAYLIGHT
BEGIN:STANDARD
TZOFFSETFROM:-0500
TZOFFSETTO:-0600
TZNAME:CST
DTSTART:20271107T070000
END:STANDARD
END:VTIMEZONE
BEGIN:VEVENT
DTSTART;TZID=America/Chicago:20260421T153000
DTEND;TZID=America/Chicago:20260421T163000
DTSTAMP:20260420T044539
CREATED:20251129T001454Z
LAST-MODIFIED:20251219T044400Z
UID:1623-1776785400-1776789000@sokalawgroup.com
SUMMARY:Estate Planning Seminar - April 21 at 3:30 PM
DESCRIPTION:
URL:https://sokalawgroup.com/event/estate-planning-seminar-15/
LOCATION:Plymouth Cultural Center\, 525 Farmer St\, Plymouth\, MI\, 48170
ATTACH;FMTTYPE=image/jpeg:https://sokalawgroup.com/wp-content/uploads/2025/02/estate-planning.jpg
END:VEVENT
BEGIN:VEVENT
DTSTART;TZID=America/Chicago:20260421T183000
DTEND;TZID=America/Chicago:20260421T193000
DTSTAMP:20260420T044539
CREATED:20251217T032631Z
LAST-MODIFIED:20251219T044407Z
UID:1648-1776796200-1776799800@sokalawgroup.com
SUMMARY:Estate Planning Seminar - April 21 at 6:30 PM
DESCRIPTION:
URL:https://sokalawgroup.com/event/estate-planning-seminar-april-21-at-630-pm/
LOCATION:Plymouth Cultural Center\, 525 Farmer St\, Plymouth\, MI\, 48170
ATTACH;FMTTYPE=image/jpeg:https://sokalawgroup.com/wp-content/uploads/2025/02/estate-planning.jpg
END:VEVENT
BEGIN:VEVENT
DTSTART;TZID=America/Chicago:20260507T153000
DTEND;TZID=America/Chicago:20260507T163000
DTSTAMP:20260420T044539
CREATED:20251218T054205Z
LAST-MODIFIED:20260330T222657Z
UID:1666-1778167800-1778171400@sokalawgroup.com
SUMMARY:Estate Planning Seminar - May 7 at 3:30 PM
DESCRIPTION:
URL:https://sokalawgroup.com/event/estate-planning-seminar-may-7-at-330-pm/
LOCATION:The Kensington Hotel\, 3500 S State St\, Ann Arbor\, 48108\, United States
ATTACH;FMTTYPE=image/jpeg:https://sokalawgroup.com/wp-content/uploads/2025/02/estate-planning.jpg
END:VEVENT
BEGIN:VEVENT
DTSTART;TZID=America/Chicago:20260507T183000
DTEND;TZID=America/Chicago:20260507T193000
DTSTAMP:20260420T044539
CREATED:20251218T054256Z
LAST-MODIFIED:20260330T222640Z
UID:1669-1778178600-1778182200@sokalawgroup.com
SUMMARY:Estate Planning Seminar - May 7 at 6:30 PM
DESCRIPTION:
URL:https://sokalawgroup.com/event/estate-planning-seminar-may-7-at-600-pm/
LOCATION:The Kensington Hotel\, 3500 S State St\, Ann Arbor\, 48108\, United States
ATTACH;FMTTYPE=image/jpeg:https://sokalawgroup.com/wp-content/uploads/2025/02/estate-planning.jpg
END:VEVENT
BEGIN:VEVENT
DTSTART;TZID=America/Chicago:20260610T183000
DTEND;TZID=America/Chicago:20260610T193000
DTSTAMP:20260420T044539
CREATED:20251129T001652Z
LAST-MODIFIED:20251219T044439Z
UID:1625-1781116200-1781119800@sokalawgroup.com
SUMMARY:Estate Planning Seminar - June 10 at 6:30 PM
DESCRIPTION:
URL:https://sokalawgroup.com/event/estate-planning-seminar-16/
LOCATION:Farmington Hills Public Library\, 32737 W 12 Mile Rd\, Farmington Hills\, MI\, 48334\, United States
ATTACH;FMTTYPE=image/jpeg:https://sokalawgroup.com/wp-content/uploads/2025/02/estate-planning.jpg
END:VEVENT
BEGIN:VEVENT
DTSTART;TZID=America/Chicago:20260611T183000
DTEND;TZID=America/Chicago:20260611T193000
DTSTAMP:20260420T044539
CREATED:20251129T001815Z
LAST-MODIFIED:20260402T202230Z
UID:1627-1781202600-1781206200@sokalawgroup.com
SUMMARY:Estate Planning Seminar - June 10 at 6:30 PM
DESCRIPTION:
URL:https://sokalawgroup.com/event/estate-planning-seminar-17/
LOCATION:Farmington Hills Public Library\, 32737 W 12 Mile Rd\, Farmington Hills\, MI\, 48334\, United States
ATTACH;FMTTYPE=image/jpeg:https://sokalawgroup.com/wp-content/uploads/2025/02/estate-planning.jpg
END:VEVENT
BEGIN:VEVENT
DTSTART;TZID=America/Chicago:20260716T153000
DTEND;TZID=America/Chicago:20260716T163000
DTSTAMP:20260420T044539
CREATED:20260330T223007Z
LAST-MODIFIED:20260402T202236Z
UID:1681-1784215800-1784219400@sokalawgroup.com
SUMMARY:Estate Planning Seminar - July 16 at 3:30 PM
DESCRIPTION:
URL:https://sokalawgroup.com/event/estate-planning-seminar-july-16-330-pm/
LOCATION:Milford Public Library\, 330 Family Dr\, Milford\, MI\, Milford\, 48381\, United States
ATTACH;FMTTYPE=image/jpeg:https://sokalawgroup.com/wp-content/uploads/2025/02/estate-planning.jpg
END:VEVENT
BEGIN:VEVENT
DTSTART;TZID=America/Chicago:20260716T183000
DTEND;TZID=America/Chicago:20260716T193000
DTSTAMP:20260420T044539
CREATED:20260330T223102Z
LAST-MODIFIED:20260402T202241Z
UID:1684-1784226600-1784230200@sokalawgroup.com
SUMMARY:Estate Planning Seminar - July 16 at 6:30 PM
DESCRIPTION:
URL:https://sokalawgroup.com/event/estate-planning-seminar-july-16-630-pm/
LOCATION:Milford Public Library\, 330 Family Dr\, Milford\, MI\, Milford\, 48381\, United States
ATTACH;FMTTYPE=image/jpeg:https://sokalawgroup.com/wp-content/uploads/2025/02/estate-planning.jpg
END:VEVENT
BEGIN:VEVENT
DTSTART;TZID=America/Chicago:20260818T153000
DTEND;TZID=America/Chicago:20260818T163000
DTSTAMP:20260420T044539
CREATED:20260402T202006Z
LAST-MODIFIED:20260402T202247Z
UID:1686-1787067000-1787070600@sokalawgroup.com
SUMMARY:Estate Planning Seminar - August 18 at 3:30 PM
DESCRIPTION:
URL:https://sokalawgroup.com/event/estate-planning-seminar-august-18-330-pm/
LOCATION:Livonia Civic Center Library\, 32777 Five Mile Rd\, Livonia\, MI\, 48154
ATTACH;FMTTYPE=image/jpeg:https://sokalawgroup.com/wp-content/uploads/2025/02/estate-planning.jpg
END:VEVENT
BEGIN:VEVENT
DTSTART;TZID=America/Chicago:20260818T183000
DTEND;TZID=America/Chicago:20260818T193000
DTSTAMP:20260420T044539
CREATED:20260402T202409Z
LAST-MODIFIED:20260402T202409Z
UID:1696-1787077800-1787081400@sokalawgroup.com
SUMMARY:Estate Planning Seminar - August 18 at 6:30 PM
DESCRIPTION:
URL:https://sokalawgroup.com/event/estate-planning-seminar-august-18-at-630-pm/
LOCATION:Livonia Civic Center Library\, 32777 Five Mile Rd\, Livonia\, MI\, 48154
ATTACH;FMTTYPE=image/jpeg:https://sokalawgroup.com/wp-content/uploads/2025/02/estate-planning.jpg
END:VEVENT
BEGIN:VEVENT
DTSTART;TZID=America/Chicago:20260924T153000
DTEND;TZID=America/Chicago:20260924T163000
DTSTAMP:20260420T044539
CREATED:20260402T202049Z
LAST-MODIFIED:20260402T202200Z
UID:1688-1790263800-1790267400@sokalawgroup.com
SUMMARY:Estate Planning Seminar - September 24 at 3:30 PM
DESCRIPTION:
URL:https://sokalawgroup.com/event/estate-planning-seminar-september-24-at-330-pm/
LOCATION:Southfield Civic Center\, 26000 Evergreen Rd\, Southfield\, MI\, 48076\, United States
ATTACH;FMTTYPE=image/jpeg:https://sokalawgroup.com/wp-content/uploads/2025/02/estate-planning.jpg
END:VEVENT
BEGIN:VEVENT
DTSTART;TZID=America/Chicago:20260924T183000
DTEND;TZID=America/Chicago:20260924T193000
DTSTAMP:20260420T044539
CREATED:20260402T202144Z
LAST-MODIFIED:20260402T202144Z
UID:1690-1790274600-1790278200@sokalawgroup.com
SUMMARY:Estate Planning Seminar - September 24 at 6:30 PM
DESCRIPTION:
URL:https://sokalawgroup.com/event/estate-planning-seminar-september-24-at-630-pm/
LOCATION:Southfield Civic Center\, 26000 Evergreen Rd\, Southfield\, MI\, 48076\, United States
ATTACH;FMTTYPE=image/jpeg:https://sokalawgroup.com/wp-content/uploads/2025/02/estate-planning.jpg
END:VEVENT
END:VCALENDAR